BEGIN:VCALENDAR
VERSION:2.0
PRODID:-//jEvents 2.0 for Joomla//EN
CALSCALE:GREGORIAN
METHOD:PUBLISH
BEGIN:VTIMEZONE
TZID:Europe/Paris
BEGIN:STANDARD
DTSTART:20251026T020000
RDATE:20260329T030000
TZOFFSETFROM:+0200
TZOFFSETTO:+0100
TZNAME:Europe/Paris CET
END:STANDARD
BEGIN:STANDARD
DTSTART:20261025T020000
RDATE:20270328T030000
TZOFFSETFROM:+0200
TZOFFSETTO:+0100
TZNAME:Europe/Paris CET
END:STANDARD
BEGIN:STANDARD
DTSTART:20271031T020000
RDATE:20280326T030000
TZOFFSETFROM:+0200
TZOFFSETTO:+0100
TZNAME:Europe/Paris CET
END:STANDARD
BEGIN:STANDARD
DTSTART:20281029T020000
RDATE:20290325T030000
TZOFFSETFROM:+0200
TZOFFSETTO:+0100
TZNAME:Europe/Paris CET
END:STANDARD
BEGIN:STANDARD
DTSTART:20291028T020000
RDATE:20300331T030000
TZOFFSETFROM:+0200
TZOFFSETTO:+0100
TZNAME:Europe/Paris CET
END:STANDARD
BEGIN:STANDARD
DTSTART:20301027T020000
RDATE:20310330T030000
TZOFFSETFROM:+0200
TZOFFSETTO:+0100
TZNAME:Europe/Paris CET
END:STANDARD
BEGIN:DAYLIGHT
DTSTART:20250518T000000
RDATE:20251026T020000
TZOFFSETFROM:+0100
TZOFFSETTO:+0200
TZNAME:Europe/Paris CEST
END:DAYLIGHT
BEGIN:DAYLIGHT
DTSTART:20260329T030000
RDATE:20261025T020000
TZOFFSETFROM:+0100
TZOFFSETTO:+0200
TZNAME:Europe/Paris CEST
END:DAYLIGHT
BEGIN:DAYLIGHT
DTSTART:20270328T030000
RDATE:20271031T020000
TZOFFSETFROM:+0100
TZOFFSETTO:+0200
TZNAME:Europe/Paris CEST
END:DAYLIGHT
BEGIN:DAYLIGHT
DTSTART:20280326T030000
RDATE:20281029T020000
TZOFFSETFROM:+0100
TZOFFSETTO:+0200
TZNAME:Europe/Paris CEST
END:DAYLIGHT
BEGIN:DAYLIGHT
DTSTART:20290325T030000
RDATE:20291028T020000
TZOFFSETFROM:+0100
TZOFFSETTO:+0200
TZNAME:Europe/Paris CEST
END:DAYLIGHT
BEGIN:DAYLIGHT
DTSTART:20300331T030000
RDATE:20301027T020000
TZOFFSETFROM:+0100
TZOFFSETTO:+0200
TZNAME:Europe/Paris CEST
END:DAYLIGHT
END:VTIMEZONE
BEGIN:VEVENT
UID:c0bff65d712e9e5a5c53836e602c4887
CATEGORIES:CIRP Conferences
CREATED:20230915T121937
SUMMARY:59th CIRP Conference on Manufacturing Systems - CIRP CMS 2026
URL;VALUE=URI:https://mail.cirp.net/event-detail/icalrepeat.detail/2026/05/19/469/-/59th-
 cirp-conference-on-manufacturing-systems-cirp-cms-2026.html?tmpl=component
DESCRIPTION:The 59th CIRP Conference on Manufacturing Systems (CIRP CMS 2026) will be h
 eld in Austin,Texas, USA on May 19 to 21, 2026.\nWebsite:\n This event was 
 imported from: https://mail.cirp.net/event-detail/icalrepeat.detail/2026/05
 /19/469/-/59th-cirp-conference-on-manufacturing-systems-cirp-cms-2026.html?
 tmpl=component
X-ALT-DESC;FMTTYPE=text/html:<p>The <strong><span style="color: #800000;">59th CIRP Conference on Manufa
 cturing Systems (CIRP CMS 2026)</span></strong> will be held in Austin,Texa
 s, USA on May 19 to 21, 2026.</p><p>Website:</p> <a href="https://mail.cirp
 .net/event-detail/icalrepeat.detail/2026/05/19/469/-/59th-cirp-conference-o
 n-manufacturing-systems-cirp-cms-2026.html?tmpl=component">This event was i
 mported from: https://mail.cirp.net/event-detail/icalrepeat.detail/2026/05/
 19/469/-/59th-cirp-conference-on-manufacturing-systems-cirp-cms-2026.html?t
 mpl=component</a>DTSTAMP:20260420T095634
DTSTART;TZID=Europe/Paris;VALUE=DATE:20260519
DTEND;TZID=Europe/Paris;VALUE=DATE:20260522
SEQUENCE:0
TRANSP:OPAQUE
END:VEVENT
END:VCALENDAR