BEGIN:VCALENDAR
VERSION:2.0
PRODID:-//jEvents 2.0 for Joomla//EN
CALSCALE:GREGORIAN
METHOD:PUBLISH
BEGIN:VTIMEZONE
TZID:Europe/Paris
BEGIN:STANDARD
DTSTART:20251026T020000
RDATE:20260329T030000
TZOFFSETFROM:+0200
TZOFFSETTO:+0100
TZNAME:Europe/Paris CET
END:STANDARD
BEGIN:STANDARD
DTSTART:20261025T020000
RDATE:20270328T030000
TZOFFSETFROM:+0200
TZOFFSETTO:+0100
TZNAME:Europe/Paris CET
END:STANDARD
BEGIN:STANDARD
DTSTART:20271031T020000
RDATE:20280326T030000
TZOFFSETFROM:+0200
TZOFFSETTO:+0100
TZNAME:Europe/Paris CET
END:STANDARD
BEGIN:STANDARD
DTSTART:20281029T020000
RDATE:20290325T030000
TZOFFSETFROM:+0200
TZOFFSETTO:+0100
TZNAME:Europe/Paris CET
END:STANDARD
BEGIN:STANDARD
DTSTART:20291028T020000
RDATE:20300331T030000
TZOFFSETFROM:+0200
TZOFFSETTO:+0100
TZNAME:Europe/Paris CET
END:STANDARD
BEGIN:STANDARD
DTSTART:20301027T020000
RDATE:20310330T030000
TZOFFSETFROM:+0200
TZOFFSETTO:+0100
TZNAME:Europe/Paris CET
END:STANDARD
BEGIN:DAYLIGHT
DTSTART:20250518T000000
RDATE:20251026T020000
TZOFFSETFROM:+0100
TZOFFSETTO:+0200
TZNAME:Europe/Paris CEST
END:DAYLIGHT
BEGIN:DAYLIGHT
DTSTART:20260329T030000
RDATE:20261025T020000
TZOFFSETFROM:+0100
TZOFFSETTO:+0200
TZNAME:Europe/Paris CEST
END:DAYLIGHT
BEGIN:DAYLIGHT
DTSTART:20270328T030000
RDATE:20271031T020000
TZOFFSETFROM:+0100
TZOFFSETTO:+0200
TZNAME:Europe/Paris CEST
END:DAYLIGHT
BEGIN:DAYLIGHT
DTSTART:20280326T030000
RDATE:20281029T020000
TZOFFSETFROM:+0100
TZOFFSETTO:+0200
TZNAME:Europe/Paris CEST
END:DAYLIGHT
BEGIN:DAYLIGHT
DTSTART:20290325T030000
RDATE:20291028T020000
TZOFFSETFROM:+0100
TZOFFSETTO:+0200
TZNAME:Europe/Paris CEST
END:DAYLIGHT
BEGIN:DAYLIGHT
DTSTART:20300331T030000
RDATE:20301027T020000
TZOFFSETFROM:+0100
TZOFFSETTO:+0200
TZNAME:Europe/Paris CEST
END:DAYLIGHT
END:VTIMEZONE
BEGIN:VEVENT
UID:adcea946bc6536ebe93aad3dd1837fb4
CATEGORIES:CIRP Conferences
CREATED:20230724T090120
SUMMARY:8th CIRP Conference on Surface Integrity - CSI 2026
LOCATION::  Yokohama\, Japan
URL;VALUE=URI:https://mail.cirp.net/event-detail/icalrepeat.detail/2026/05/19/459/-/8th-c
 irp-conference-on-surface-integrity-csi-2026.html?tmpl=component
DESCRIPTION:The 8th CIRP Conference on Surface Integrity (CSI 2026) will be held in Yok
 ohama, Japan on May 19-22, 2026.\nWebsite :  http://cirpcsi2026.org/ (http:
 //cirpcsi2026.org/)\n This event was imported from: https://mail.cirp.net/e
 vent-detail/icalrepeat.detail/2026/05/19/459/-/8th-cirp-conference-on-surfa
 ce-integrity-csi-2026.html?tmpl=component
X-ALT-DESC;FMTTYPE=text/html:<p>The <span style="color: #800000;"><strong>8th CIRP Conference on Surface
  Integrity (CSI 2026)</strong></span> will be held in Yokohama, Japan on Ma
 y 19-22, 2026.</p><p>Website :  <a href="http://cirpcsi2026.org/">http://ci
 rpcsi2026.org/</a></p> <a href="https://mail.cirp.net/event-detail/icalrepe
 at.detail/2026/05/19/459/-/8th-cirp-conference-on-surface-integrity-csi-202
 6.html?tmpl=component">This event was imported from: https://mail.cirp.net/
 event-detail/icalrepeat.detail/2026/05/19/459/-/8th-cirp-conference-on-surf
 ace-integrity-csi-2026.html?tmpl=component</a>CONTACT::  Jiwang Yan
DTSTAMP:20260420T095355
DTSTART;TZID=Europe/Paris;VALUE=DATE:20260519
DTEND;TZID=Europe/Paris;VALUE=DATE:20260520
SEQUENCE:0
TRANSP:OPAQUE
END:VEVENT
END:VCALENDAR