BEGIN:VCALENDAR
VERSION:2.0
PRODID:-//jEvents 2.0 for Joomla//EN
CALSCALE:GREGORIAN
METHOD:PUBLISH
BEGIN:VTIMEZONE
TZID:Europe/Paris
BEGIN:STANDARD
DTSTART:20270222T000000
RDATE:20270328T030000
TZOFFSETFROM:+0200
TZOFFSETTO:+0100
TZNAME:Europe/Paris CET
END:STANDARD
BEGIN:STANDARD
DTSTART:20271031T020000
RDATE:20280326T030000
TZOFFSETFROM:+0200
TZOFFSETTO:+0100
TZNAME:Europe/Paris CET
END:STANDARD
BEGIN:STANDARD
DTSTART:20281029T020000
RDATE:20290325T030000
TZOFFSETFROM:+0200
TZOFFSETTO:+0100
TZNAME:Europe/Paris CET
END:STANDARD
BEGIN:STANDARD
DTSTART:20291028T020000
RDATE:20300331T030000
TZOFFSETFROM:+0200
TZOFFSETTO:+0100
TZNAME:Europe/Paris CET
END:STANDARD
BEGIN:STANDARD
DTSTART:20301027T020000
RDATE:20310330T030000
TZOFFSETFROM:+0200
TZOFFSETTO:+0100
TZNAME:Europe/Paris CET
END:STANDARD
BEGIN:DAYLIGHT
DTSTART:20270328T030000
RDATE:20271031T020000
TZOFFSETFROM:+0100
TZOFFSETTO:+0200
TZNAME:Europe/Paris CEST
END:DAYLIGHT
BEGIN:DAYLIGHT
DTSTART:20280326T030000
RDATE:20281029T020000
TZOFFSETFROM:+0100
TZOFFSETTO:+0200
TZNAME:Europe/Paris CEST
END:DAYLIGHT
BEGIN:DAYLIGHT
DTSTART:20290325T030000
RDATE:20291028T020000
TZOFFSETFROM:+0100
TZOFFSETTO:+0200
TZNAME:Europe/Paris CEST
END:DAYLIGHT
BEGIN:DAYLIGHT
DTSTART:20300331T030000
RDATE:20301027T020000
TZOFFSETFROM:+0100
TZOFFSETTO:+0200
TZNAME:Europe/Paris CEST
END:DAYLIGHT
END:VTIMEZONE
BEGIN:VEVENT
UID:571cd541558db57df4e4aa5ff6a41041
CATEGORIES:CIRP Winter Meetings
CREATED:20230314T153002
SUMMARY:2028 CIRP Winter Meetings
URL;VALUE=URI:https://mail.cirp.net/event-detail/icalrepeat.detail/2028/02/23/452/-/2028-
 cirp-winter-meetings.html?tmpl=component
DESCRIPTION:The 2028 CIRP Winter Meetings will be held in "La Maison de la Mutualité" i
 n Paris, France, from Wednesday 23 February to Friday 25 February 2028. Ple
 ase see information on the Winter Meetings' page.\n This event was imported
  from: https://mail.cirp.net/event-detail/icalrepeat.detail/2028/02/23/452/
 -/2028-cirp-winter-meetings.html?tmpl=component (https://mail.cirp.net/even
 t-detail/icalrepeat.detail/2028/02/23/452/-/2028-cirp-winter-meetings.html?
 tmpl=component)
X-ALT-DESC;FMTTYPE=text/html:<p>The 2028 CIRP Winter Meetings will be held in "La Maison de la Mutualité
 " in Paris, France, from Wednesday 23 February to Friday 25 February 2028. 
 Please see information on the Winter Meetings' page.</p> <a href="https://m
 ail.cirp.net/event-detail/icalrepeat.detail/2028/02/23/452/-/2028-cirp-wint
 er-meetings.html?tmpl=component">This event was imported from: https://mail
 .cirp.net/event-detail/icalrepeat.detail/2028/02/23/452/-/2028-cirp-winter-
 meetings.html?tmpl=component</a>DTSTAMP:20260420T182939
DTSTART;TZID=Europe/Paris;VALUE=DATE:20280223
DTEND;TZID=Europe/Paris;VALUE=DATE:20280226
SEQUENCE:0
TRANSP:OPAQUE
END:VEVENT
END:VCALENDAR