BEGIN:VCALENDAR
VERSION:2.0
PRODID:-//jEvents 2.0 for Joomla//EN
CALSCALE:GREGORIAN
METHOD:PUBLISH
BEGIN:VTIMEZONE
TZID:Europe/Paris
BEGIN:STANDARD
DTSTART:20261025T020000
RDATE:20270328T030000
TZOFFSETFROM:+0200
TZOFFSETTO:+0100
TZNAME:Europe/Paris CET
END:STANDARD
BEGIN:STANDARD
DTSTART:20271031T020000
RDATE:20280326T030000
TZOFFSETFROM:+0200
TZOFFSETTO:+0100
TZNAME:Europe/Paris CET
END:STANDARD
BEGIN:STANDARD
DTSTART:20281029T020000
RDATE:20290325T030000
TZOFFSETFROM:+0200
TZOFFSETTO:+0100
TZNAME:Europe/Paris CET
END:STANDARD
BEGIN:STANDARD
DTSTART:20291028T020000
RDATE:20300331T030000
TZOFFSETFROM:+0200
TZOFFSETTO:+0100
TZNAME:Europe/Paris CET
END:STANDARD
BEGIN:STANDARD
DTSTART:20301027T020000
RDATE:20310330T030000
TZOFFSETFROM:+0200
TZOFFSETTO:+0100
TZNAME:Europe/Paris CET
END:STANDARD
BEGIN:DAYLIGHT
DTSTART:20260619T000000
RDATE:20261025T020000
TZOFFSETFROM:+0100
TZOFFSETTO:+0200
TZNAME:Europe/Paris CEST
END:DAYLIGHT
BEGIN:DAYLIGHT
DTSTART:20270328T030000
RDATE:20271031T020000
TZOFFSETFROM:+0100
TZOFFSETTO:+0200
TZNAME:Europe/Paris CEST
END:DAYLIGHT
BEGIN:DAYLIGHT
DTSTART:20280326T030000
RDATE:20281029T020000
TZOFFSETFROM:+0100
TZOFFSETTO:+0200
TZNAME:Europe/Paris CEST
END:DAYLIGHT
BEGIN:DAYLIGHT
DTSTART:20290325T030000
RDATE:20291028T020000
TZOFFSETFROM:+0100
TZOFFSETTO:+0200
TZNAME:Europe/Paris CEST
END:DAYLIGHT
BEGIN:DAYLIGHT
DTSTART:20300331T030000
RDATE:20301027T020000
TZOFFSETFROM:+0100
TZOFFSETTO:+0200
TZNAME:Europe/Paris CEST
END:DAYLIGHT
END:VTIMEZONE
BEGIN:VEVENT
UID:2c7c9ffc1ee6e18af0f518b0ea262e22
CATEGORIES:CIRP Sponsored Conferences
CREATED:20260304T151542
SUMMARY:XXXVIII Conference on Supervising and Diagnostics of Machining Systems
URL;VALUE=URI:https://mail.cirp.net/event-detail/icalrepeat.detail/2027/06/20/2698/-/xxxv
 iii-conference-on-supervising-and-diagnostics-of-machining-systems.html?tmp
 l=component
DESCRIPTION:The XXXVIII Conference on Supervising and Diagnostics of Machining Systems 
 will be held in Karpacz, Poland, on June 20-23, 2027.\nSubject: \nWebsite: 
 https://karpacz.pwr.edu.pl/ (https://karpacz.pwr.edu.pl/)\n This event was 
 imported from: https://mail.cirp.net/event-detail/icalrepeat.detail/2027/06
 /20/2698/-/xxxviii-conference-on-supervising-and-diagnostics-of-machining-s
 ystems.html?tmpl=component (https://mail.cirp.net/event-detail/icalrepeat.d
 etail/2027/06/20/2698/-/xxxviii-conference-on-supervising-and-diagnostics-o
 f-machining-systems.html?tmpl=component)
X-ALT-DESC;FMTTYPE=text/html:<p>The <strong><span style="color: #800000;">XXXVIII Conference on Supervis
 ing and Diagnostics of Machining Systems</span></strong> will be held in Ka
 rpacz, Poland, on June 20-23, 2027.</p><p>Subject: </p><p><strong>Website</
 strong>: <a href="https://karpacz.pwr.edu.pl/">https://karpacz.pwr.edu.pl/<
 /a></p> <a href="https://mail.cirp.net/event-detail/icalrepeat.detail/2027/
 06/20/2698/-/xxxviii-conference-on-supervising-and-diagnostics-of-machining
 -systems.html?tmpl=component">This event was imported from: https://mail.ci
 rp.net/event-detail/icalrepeat.detail/2027/06/20/2698/-/xxxviii-conference-
 on-supervising-and-diagnostics-of-machining-systems.html?tmpl=component</a>DTSTAMP:20260420T172904
DTSTART;TZID=Europe/Paris;VALUE=DATE:20270620
DTEND;TZID=Europe/Paris;VALUE=DATE:20270624
SEQUENCE:0
TRANSP:OPAQUE
END:VEVENT
END:VCALENDAR