BEGIN:VCALENDAR
VERSION:2.0
PRODID:-//jEvents 2.0 for Joomla//EN
CALSCALE:GREGORIAN
METHOD:PUBLISH
BEGIN:VTIMEZONE
TZID:Europe/Paris
BEGIN:STANDARD
DTSTART:20251026T020000
RDATE:20260329T030000
TZOFFSETFROM:+0200
TZOFFSETTO:+0100
TZNAME:Europe/Paris CET
END:STANDARD
BEGIN:STANDARD
DTSTART:20261025T020000
RDATE:20270328T030000
TZOFFSETFROM:+0200
TZOFFSETTO:+0100
TZNAME:Europe/Paris CET
END:STANDARD
BEGIN:STANDARD
DTSTART:20271031T020000
RDATE:20280326T030000
TZOFFSETFROM:+0200
TZOFFSETTO:+0100
TZNAME:Europe/Paris CET
END:STANDARD
BEGIN:STANDARD
DTSTART:20281029T020000
RDATE:20290325T030000
TZOFFSETFROM:+0200
TZOFFSETTO:+0100
TZNAME:Europe/Paris CET
END:STANDARD
BEGIN:STANDARD
DTSTART:20291028T020000
RDATE:20300331T030000
TZOFFSETFROM:+0200
TZOFFSETTO:+0100
TZNAME:Europe/Paris CET
END:STANDARD
BEGIN:STANDARD
DTSTART:20301027T020000
RDATE:20310330T030000
TZOFFSETFROM:+0200
TZOFFSETTO:+0100
TZNAME:Europe/Paris CET
END:STANDARD
BEGIN:DAYLIGHT
DTSTART:20250423T000000
RDATE:20251026T020000
TZOFFSETFROM:+0100
TZOFFSETTO:+0200
TZNAME:Europe/Paris CEST
END:DAYLIGHT
BEGIN:DAYLIGHT
DTSTART:20260329T030000
RDATE:20261025T020000
TZOFFSETFROM:+0100
TZOFFSETTO:+0200
TZNAME:Europe/Paris CEST
END:DAYLIGHT
BEGIN:DAYLIGHT
DTSTART:20270328T030000
RDATE:20271031T020000
TZOFFSETFROM:+0100
TZOFFSETTO:+0200
TZNAME:Europe/Paris CEST
END:DAYLIGHT
BEGIN:DAYLIGHT
DTSTART:20280326T030000
RDATE:20281029T020000
TZOFFSETFROM:+0100
TZOFFSETTO:+0200
TZNAME:Europe/Paris CEST
END:DAYLIGHT
BEGIN:DAYLIGHT
DTSTART:20290325T030000
RDATE:20291028T020000
TZOFFSETFROM:+0100
TZOFFSETTO:+0200
TZNAME:Europe/Paris CEST
END:DAYLIGHT
BEGIN:DAYLIGHT
DTSTART:20300331T030000
RDATE:20301027T020000
TZOFFSETFROM:+0100
TZOFFSETTO:+0200
TZNAME:Europe/Paris CEST
END:DAYLIGHT
END:VTIMEZONE
BEGIN:VEVENT
UID:88520b08f3af09b81d1d082dfb1688cf
CATEGORIES:CIRP Sponsored Conferences
CREATED:20260224T112854
SUMMARY:ICIFT 2026 and DET 2026
URL;VALUE=URI:https://mail.cirp.net/event-detail/icalrepeat.detail/2026/04/24/2696/-/icif
 t-2026-and-det-2026.html?tmpl=component
DESCRIPTION:The 3rd International Conference on Intelligent Factory Technology (ICIFT20
 26) and the 12th International Conference on Digital Enterprise Technology 
 (DET2026) will be held in Beijing, China on April. 24-26, 2026.\nWebsite: h
 ttps://icift2026.cgn.net.cn/ (https://icift2026.cgn.net.cn/)\n This event w
 as imported from: https://mail.cirp.net/event-detail/icalrepeat.detail/2026
 /04/24/2696/-/icift-2026-and-det-2026.html?tmpl=component (https://mail.cir
 p.net/event-detail/icalrepeat.detail/2026/04/24/2696/-/icift-2026-and-det-2
 026.html?tmpl=component)
X-ALT-DESC;FMTTYPE=text/html:<p class="MsoNormal"><span style="mso-fareast-font-family: 'Times New Roman
 '; color: black;">The <span style="color: rgb(128, 0, 0);"><strong>3rd Inte
 rnational Conference on Intelligent Factory Technology (ICIFT2026)</strong>
 </span> and the <span style="color: rgb(128, 0, 0);"><strong>12th Internati
 onal Conference on Digital Enterprise Technology (DET2026) </strong></span>
 will be held in Beijing, China on April. 24-26, 2026.</span></p><p class="M
 soNormal"><span style="mso-fareast-font-family: 'Times New Roman'; color: b
 lack;"><strong>Website: </strong><a href="https://icift2026.cgn.net.cn/">ht
 tps://icift2026.cgn.net.cn/</a></span></p> <a href="https://mail.cirp.net/e
 vent-detail/icalrepeat.detail/2026/04/24/2696/-/icift-2026-and-det-2026.htm
 l?tmpl=component">This event was imported from: https://mail.cirp.net/event
 -detail/icalrepeat.detail/2026/04/24/2696/-/icift-2026-and-det-2026.html?tm
 pl=component</a>DTSTAMP:20260420T095651
DTSTART;TZID=Europe/Paris;VALUE=DATE:20260424
DTEND;TZID=Europe/Paris;VALUE=DATE:20260427
SEQUENCE:0
TRANSP:OPAQUE
END:VEVENT
END:VCALENDAR