BEGIN:VCALENDAR
VERSION:2.0
PRODID:-//jEvents 2.0 for Joomla//EN
CALSCALE:GREGORIAN
METHOD:PUBLISH
BEGIN:VTIMEZONE
TZID:Europe/Paris
BEGIN:STANDARD
DTSTART:20251026T020000
RDATE:20260329T030000
TZOFFSETFROM:+0200
TZOFFSETTO:+0100
TZNAME:Europe/Paris CET
END:STANDARD
BEGIN:STANDARD
DTSTART:20261025T020000
RDATE:20270328T030000
TZOFFSETFROM:+0200
TZOFFSETTO:+0100
TZNAME:Europe/Paris CET
END:STANDARD
BEGIN:STANDARD
DTSTART:20271031T020000
RDATE:20280326T030000
TZOFFSETFROM:+0200
TZOFFSETTO:+0100
TZNAME:Europe/Paris CET
END:STANDARD
BEGIN:STANDARD
DTSTART:20281029T020000
RDATE:20290325T030000
TZOFFSETFROM:+0200
TZOFFSETTO:+0100
TZNAME:Europe/Paris CET
END:STANDARD
BEGIN:STANDARD
DTSTART:20291028T020000
RDATE:20300331T030000
TZOFFSETFROM:+0200
TZOFFSETTO:+0100
TZNAME:Europe/Paris CET
END:STANDARD
BEGIN:STANDARD
DTSTART:20301027T020000
RDATE:20310330T030000
TZOFFSETFROM:+0200
TZOFFSETTO:+0100
TZNAME:Europe/Paris CET
END:STANDARD
BEGIN:DAYLIGHT
DTSTART:20251012T000000
RDATE:20251026T020000
TZOFFSETFROM:+0100
TZOFFSETTO:+0200
TZNAME:Europe/Paris CEST
END:DAYLIGHT
BEGIN:DAYLIGHT
DTSTART:20260329T030000
RDATE:20261025T020000
TZOFFSETFROM:+0100
TZOFFSETTO:+0200
TZNAME:Europe/Paris CEST
END:DAYLIGHT
BEGIN:DAYLIGHT
DTSTART:20270328T030000
RDATE:20271031T020000
TZOFFSETFROM:+0100
TZOFFSETTO:+0200
TZNAME:Europe/Paris CEST
END:DAYLIGHT
BEGIN:DAYLIGHT
DTSTART:20280326T030000
RDATE:20281029T020000
TZOFFSETFROM:+0100
TZOFFSETTO:+0200
TZNAME:Europe/Paris CEST
END:DAYLIGHT
BEGIN:DAYLIGHT
DTSTART:20290325T030000
RDATE:20291028T020000
TZOFFSETFROM:+0100
TZOFFSETTO:+0200
TZNAME:Europe/Paris CEST
END:DAYLIGHT
BEGIN:DAYLIGHT
DTSTART:20300331T030000
RDATE:20301027T020000
TZOFFSETFROM:+0100
TZOFFSETTO:+0200
TZNAME:Europe/Paris CEST
END:DAYLIGHT
END:VTIMEZONE
BEGIN:VEVENT
UID:f269ab1e5806d229198ac64e5aa09dbe
CATEGORIES:CIRP Conferences
CREATED:20250905T134716
SUMMARY:14th CIRP Global Web Conference - CIRPe 2026
URL;VALUE=URI:https://mail.cirp.net/event-detail/icalrepeat.detail/2026/10/13/2680/-/14th
 -cirp-global-web-conference-cirpe-2026.html?tmpl=component
DESCRIPTION:The 14th CIRP Global Web Conference - CIRPe 2026 - will be held on October 
 13- 16, 2026.\nWebsite: www.cirpe2026.com (http://www.cirpe2026.com)\n This
  event was imported from: https://mail.cirp.net/event-detail/icalrepeat.det
 ail/2026/10/13/2680/-/14th-cirp-global-web-conference-cirpe-2026.html?tmpl=
 component
X-ALT-DESC;FMTTYPE=text/html:<p>The<span style="color: #800000;"><strong> 14th CIRP Global Web Conferenc
 e - CIRPe 2026</strong></span> - will be held on October 13- 16, 2026.</p><
 p><strong>Website: <span style="font-size: 12.0pt; font-family: 'Aptos',san
 s-serif; mso-fareast-font-family: 'Times New Roman'; mso-bidi-font-family: 
 Aptos; color: black; mso-ansi-language: FR; mso-fareast-language: FR; mso-b
 idi-language: AR-SA;"><a href="http://www.cirpe2026.com">www.cirpe2026.com<
 /a></span></strong></p> <a href="https://mail.cirp.net/event-detail/icalrep
 eat.detail/2026/10/13/2680/-/14th-cirp-global-web-conference-cirpe-2026.htm
 l?tmpl=component">This event was imported from: https://mail.cirp.net/event
 -detail/icalrepeat.detail/2026/10/13/2680/-/14th-cirp-global-web-conference
 -cirpe-2026.html?tmpl=component</a>DTSTAMP:20260420T112319
DTSTART;TZID=Europe/Paris;VALUE=DATE:20261013
DTEND;TZID=Europe/Paris;VALUE=DATE:20261017
SEQUENCE:0
TRANSP:OPAQUE
END:VEVENT
END:VCALENDAR